BEGIN:VCALENDAR
VERSION:2.0
PRODID:-//PASSAT - ECPv6.15.20//NONSGML v1.0//EN
CALSCALE:GREGORIAN
METHOD:PUBLISH
X-WR-CALNAME:PASSAT
X-ORIGINAL-URL:https://digitaler-produkt-pass.at
X-WR-CALDESC:Veranstaltungen für PASSAT
REFRESH-INTERVAL;VALUE=DURATION:PT1H
X-Robots-Tag:noindex
X-PUBLISHED-TTL:PT1H
BEGIN:VTIMEZONE
TZID:Europe/Vienna
BEGIN:DAYLIGHT
TZOFFSETFROM:+0100
TZOFFSETTO:+0200
TZNAME:CEST
DTSTART:20250330T010000
END:DAYLIGHT
BEGIN:STANDARD
TZOFFSETFROM:+0200
TZOFFSETTO:+0100
TZNAME:CET
DTSTART:20251026T010000
END:STANDARD
BEGIN:DAYLIGHT
TZOFFSETFROM:+0100
TZOFFSETTO:+0200
TZNAME:CEST
DTSTART:20260329T010000
END:DAYLIGHT
BEGIN:STANDARD
TZOFFSETFROM:+0200
TZOFFSETTO:+0100
TZNAME:CET
DTSTART:20261025T010000
END:STANDARD
BEGIN:DAYLIGHT
TZOFFSETFROM:+0100
TZOFFSETTO:+0200
TZNAME:CEST
DTSTART:20270328T010000
END:DAYLIGHT
BEGIN:STANDARD
TZOFFSETFROM:+0200
TZOFFSETTO:+0100
TZNAME:CET
DTSTART:20271031T010000
END:STANDARD
END:VTIMEZONE
BEGIN:VEVENT
DTSTART;VALUE=DATE:20260420
DTEND;VALUE=DATE:20260424
DTSTAMP:20260424T110022
CREATED:20260217T115505Z
LAST-MODIFIED:20260217T115505Z
UID:1527-1776643200-1776988799@digitaler-produkt-pass.at
SUMMARY:Chemicals Management for Electronics – Regulatory Summit Europe 2026
DESCRIPTION:Der Themenblock „Chemicals Management for Electronics“ ist Teil des viertägigen Regulatory Summit Europe 2026\, einer der führenden europäischen Fachveranstaltungen zu Chemikalienrecht\, Regulierung und Compliance. Die Veranstaltung findet vom 20. bis 23. April 2026 in Brüssel sowie online statt. \n\nEin eigener Programmtag widmet sich am 23. April 2026 den regulatorischen Entwicklungen rund um Chemikalienmanagement im Elektroniksektor. Dieser Themenbereich richtet sich besonders an Compliance‑Verantwortliche\, Elektronikhersteller\, Lieferkettenmanager und F&E‑Abteilungen\, die sich mit gesetzlichen Vorgaben zu Chemikalien\, Stoffbeschränkungen und nachhaltigen Materialstrategien befassen. \nInhalte des Themenschwerpunkts Elektronik\n\nDer Elektronik‑Tag bietet tiefgehende Einblicke in: \n\naktuelle und kommende gesetzliche Anforderungen für Elektro- und Elektronikgeräte (EEE)\nchemische Stoffbeschränkungen\, Sicherheitsstandards und marktrelevante Regulierungen\nHerausforderungen und Trends bei REACH\, CLP und sektorspezifischen Richtlinien\nstrategische Ansätze zur Sicherstellung von Compliance in globalen Lieferketten\nAustausch mit Expert:innen\, Behörden und Industrievertretern zu künftigen Regulierungsentwicklungen\n\nDieser Tag gilt als einer der wichtigsten europäischen Treffpunkte für alle\, die im Elektronikbereich mit Chemikalienregulierung arbeiten. \nTeilnahme & Tickets\n\nDie Veranstaltung wird hybrid angeboten – eine Teilnahme ist sowohl vor Ort in Brüssel als auch virtuell möglich. \nSo erhält man Tickets\nTickets können direkt über die Veranstaltungsseite gebucht werden:\n→ events.chemicalwatch.com/1647976\nDort stehen Optionen für: \n\ndie Buchung der gesamten viertägigen Konferenz\, oder\ndie Teilnahme an einzelnen Thementagen\, einschließlich des Elektronik‑Schwerpunkts.\n\nDer Summit richtet sich an Fachleute aus Regulierung\, Compliance und Industrie. Eine Registrierung ist erforderlich.
URL:https://digitaler-produkt-pass.at/event/chemicals-management-for-electronics-regulatory-summit-europe-2026/
LOCATION:Tangla Hotel\, Avenue Emmanuel Mounier 5 \, Woluwé St\, Lambert\, Brüssel\, 1200\, Belgium
ATTACH;FMTTYPE=image/png:https://digitaler-produkt-pass.at/wp-content/uploads/2026/02/ChatGPT-Image-17.-Feb.-2026-12_52_06.png
END:VEVENT
END:VCALENDAR