BEGIN:VCALENDAR
VERSION:2.0
PRODID:-//PASSAT - ECPv6.15.20//NONSGML v1.0//EN
CALSCALE:GREGORIAN
METHOD:PUBLISH
X-ORIGINAL-URL:https://digitaler-produkt-pass.at
X-WR-CALDESC:Veranstaltungen für PASSAT
REFRESH-INTERVAL;VALUE=DURATION:PT1H
X-Robots-Tag:noindex
X-PUBLISHED-TTL:PT1H
BEGIN:VTIMEZONE
TZID:Europe/Vienna
BEGIN:DAYLIGHT
TZOFFSETFROM:+0100
TZOFFSETTO:+0200
TZNAME:CEST
DTSTART:20240331T010000
END:DAYLIGHT
BEGIN:STANDARD
TZOFFSETFROM:+0200
TZOFFSETTO:+0100
TZNAME:CET
DTSTART:20241027T010000
END:STANDARD
BEGIN:DAYLIGHT
TZOFFSETFROM:+0100
TZOFFSETTO:+0200
TZNAME:CEST
DTSTART:20250330T010000
END:DAYLIGHT
BEGIN:STANDARD
TZOFFSETFROM:+0200
TZOFFSETTO:+0100
TZNAME:CET
DTSTART:20251026T010000
END:STANDARD
BEGIN:DAYLIGHT
TZOFFSETFROM:+0100
TZOFFSETTO:+0200
TZNAME:CEST
DTSTART:20260329T010000
END:DAYLIGHT
BEGIN:STANDARD
TZOFFSETFROM:+0200
TZOFFSETTO:+0100
TZNAME:CET
DTSTART:20261025T010000
END:STANDARD
END:VTIMEZONE
BEGIN:VEVENT
DTSTART;TZID=Europe/Vienna:20250805T140000
DTEND;TZID=Europe/Vienna:20250805T160000
DTSTAMP:20260424T212412
CREATED:20250728T093813Z
LAST-MODIFIED:20250728T093939Z
UID:754-1754402400-1754409600@digitaler-produkt-pass.at
SUMMARY:Standardisierung des DPP: Einblick in die Enquiry Drafts
DESCRIPTION:Seit Ende Juni 2025 sind die ersten Enquiry Drafts zur Standardisierung des Digitalen Produktpasses (DPP) öffentlich zugänglich.  Diese wurden im Rahmen eines Standardisierungsauftrags der Europäischen Kommission durch CEN/CENELEC erarbeitet und bilden die Grundlage für die zukünftige IT-Architektur des Digitalen Produktpasses – ein zentrales Element für dessen Umsetzung. Die Drafts werden in Österreich von Austrian Standards (ASI) am 15.07.2025 gesammelt veröffentlicht und befinden sich dann im öffentlichen Konsultationsprozess. Bis voraussichtlich Ende des Sommers kann Feedback eingebracht werden. Parallel dazu arbeitet die Europäische Kommission an delegierten Rechtsakten\, in denen geregelt wird\, welche produktbezogenen Informationen im DPP enthalten sein müssen. Beide Prozesse – Standardisierung und Regulierung – laufen zeitgleich und bilden gemeinsam die technische und rechtliche Basis für die Einführung des DPPs. (Mehr zum allgemeinen Thema DPP gibt es beispielsweise HIER) \nUm einen fundierten Überblick über die Inhalte der Drafts und den aktuellen Stand der Standardisierung zu geben\, laden wir Sie herzlich zu diesem Webinar am 05.08.2025\, 14:00 – 16:00 ein\, das im Rahmen des PASSAT-Projekts organisiert wird. Gefolgt von einer Begrüßung durch Karl Grün (Deputy Managing Director von Austrian Standards) werden die Experten Otto Handle (Convenor CEN/CENELEC JTC 24 WG 4 „digital product passport – interoperability framework) und Eugen Sehorz (Stellvertretender Vorsitzender des österreichischen Spiegelgremiums am ASI) einen umfassenden Einblick in die erarbeiteten Standards geben und gehen sowohl auf häufige als auch auf Ihre konkreten Fragen ein. \nAgenda: \n\nI. 14:00 – 14:10 Begrüßung (Karl Grün)\nII. 14:10 – 15:10 Präsentation der Enquiry Drafts (Otto Handle\, Eugen Sehorz)\nIII. 15:10 – 16:00 Fragen und Diskussion\n\nDer Vortragsteil (II.) wird aufgezeichnet und im Nachgang öffentlich zur Verfügung gestellt. Zusätzlich wird ein Q&A-Dokument auf Basis der Fragen und Diskussion (III.) erstellt. Für eine produktive Diskussion empfehlen wir\, die Drafts im Vorhinein zu lesen oder zumindest einen Blick darauf zu werfen. Wir geben ein Update\, sobald die Entwürfe auf der Website des ASI verfügbar sind. Diese sollen nach kostenloser Registrierung via Read-Only zugänglich sein. \nMit diesem Webinar möchten wir zur Aufklärung und breiteren Verankerung der Standardisierungsarbeiten beitragen und die österreichische Industrie bei der Vorbereitung auf die Implementierung des Digitalen Produktpasses unterstützen.\n\nEinwahldaten (via zoom) \n\nLink zum Call: https://us02web.zoom.us/j/83626877246\nMeeting-ID: 836 2687 7246\n\nUm die Termineinladung direkt in Ihrem Kalender zu erhalten\, können Sie sich auf der Seite der Plattform Industrie 4.0 registrieren. HIER können Sie sich außerdem für die regelmäßigen Updates zum DPP der Plattform Industrie 4.0 anmelden. Bei Fragen melden Sie sich bitte direkt bei Verena Halmschlager. HIER finden Sie außerdem die Einladung als PDF zum weiterleiten.
URL:https://digitaler-produkt-pass.at/event/standardisierung-des-dpp-einblick-in-die-enquiry-drafts/
ATTACH;FMTTYPE=image/png:https://digitaler-produkt-pass.at/wp-content/uploads/2025/07/PASSAT_Standards-scaled.png
END:VEVENT
END:VCALENDAR