BEGIN:VCALENDAR
VERSION:2.0
PRODID:-//PASSAT - ECPv6.15.20//NONSGML v1.0//EN
CALSCALE:GREGORIAN
METHOD:PUBLISH
X-ORIGINAL-URL:https://digitaler-produkt-pass.at
X-WR-CALDESC:Veranstaltungen für PASSAT
REFRESH-INTERVAL;VALUE=DURATION:PT1H
X-Robots-Tag:noindex
X-PUBLISHED-TTL:PT1H
BEGIN:VTIMEZONE
TZID:Europe/Vienna
BEGIN:DAYLIGHT
TZOFFSETFROM:+0100
TZOFFSETTO:+0200
TZNAME:CEST
DTSTART:20240331T010000
END:DAYLIGHT
BEGIN:STANDARD
TZOFFSETFROM:+0200
TZOFFSETTO:+0100
TZNAME:CET
DTSTART:20241027T010000
END:STANDARD
BEGIN:DAYLIGHT
TZOFFSETFROM:+0100
TZOFFSETTO:+0200
TZNAME:CEST
DTSTART:20250330T010000
END:DAYLIGHT
BEGIN:STANDARD
TZOFFSETFROM:+0200
TZOFFSETTO:+0100
TZNAME:CET
DTSTART:20251026T010000
END:STANDARD
BEGIN:DAYLIGHT
TZOFFSETFROM:+0100
TZOFFSETTO:+0200
TZNAME:CEST
DTSTART:20260329T010000
END:DAYLIGHT
BEGIN:STANDARD
TZOFFSETFROM:+0200
TZOFFSETTO:+0100
TZNAME:CET
DTSTART:20261025T010000
END:STANDARD
END:VTIMEZONE
BEGIN:VEVENT
DTSTART;VALUE=DATE:20250922
DTEND;VALUE=DATE:20250923
DTSTAMP:20260424T194110
CREATED:20250728T102222Z
LAST-MODIFIED:20250728T102222Z
UID:766-1758499200-1758585599@digitaler-produkt-pass.at
SUMMARY:CircularTech Forum 2025-DPP in Action
DESCRIPTION:Am 22.September findet das diesjährige CircularTech Forum in Köln statt\, unter dem Thema Unlocking a Trusted\, Data-Driven Circular Economy. \nDas CircularTech Forum 2025 widmet sich der Rolle digitaler Produktpässe bei der Umsetzung einer transparenten und datengetriebenen Kreislaufwirtschaft. Im Mittelpunkt stehen aktuelle regulatorische Entwicklungen wie der EU Green Deal\, die Ecodesign for Sustainable Products Regulation sowie branchenspezifische Vorgaben\, die den Lebenszyklus von Produkten in verschiedenen Industrien beeinflussen – von Batterien\, Textilien und Elektronik bis hin zu Gebäuden und Kunststoffen. \nDas Forum bringt Expert:innen und Akteure der gesamten Wertschöpfungskette zusammen\, darunter Rohstofflieferanten\, Hersteller\, Recyclingunternehmen\, Normungsorganisationen\, Technologieanbieter\, politische Entscheidungsträger und Fachleute aus der Industrie. Ziel ist der Austausch zu regulatorischen Anforderungen\, technologischen Lösungen und interoperablen Ansätzen für digitale Produktpässe. \nProgrammpunkte: \n\n\nFachvorträge und Paneldiskussionen zu aktuellen Entwicklungen \n\n\nWorkshops zu Compliance und Technologie \n\n\nAusstellungsbereich mit Lösungen aus dem Bereich digitale Kreislaufwirtschaft \n\n\nNetworking-Gelegenheiten mit Vertreter:innen aus Wirtschaft\, Politik und Technologie \n\n\nVerleihung der CircularTech Digital Product Passport Excellence Awards \n\n\nSchwerpunkte 2025: \n\n\nUmsetzung von DPPs in regulierten Branchen wie Batterien und Energiespeichern \n\n\nAnsätze für freiwillige und neue Sektoren\, darunter Automotive\, Luftfahrt und Smart Manufacturing \n\n\nDigitalisierung der Lieferketten\, Blockchain-Anwendungen und nachhaltige Industrie 4.0-Lösungen \n\n\n  \nNähere Informationen zum Event finden Sie auf der Event-Homepage: https://circulartechforum.de/ctf2025-dpp-in-action/
URL:https://digitaler-produkt-pass.at/event/circulartech-forum-2025-dpp-in-action/
LOCATION:Cologne Mediapark-7\, Köln\, Germany
ATTACH;FMTTYPE=image/png:https://digitaler-produkt-pass.at/wp-content/uploads/2025/07/Screenshot-2025-07-28-122156.png
END:VEVENT
END:VCALENDAR