BEGIN:VCALENDAR
VERSION:2.0
PRODID:-//PASSAT - ECPv6.15.20//NONSGML v1.0//EN
CALSCALE:GREGORIAN
METHOD:PUBLISH
X-ORIGINAL-URL:https://digitaler-produkt-pass.at
X-WR-CALDESC:Veranstaltungen für PASSAT
REFRESH-INTERVAL;VALUE=DURATION:PT1H
X-Robots-Tag:noindex
X-PUBLISHED-TTL:PT1H
BEGIN:VTIMEZONE
TZID:Europe/Vienna
BEGIN:DAYLIGHT
TZOFFSETFROM:+0100
TZOFFSETTO:+0200
TZNAME:CEST
DTSTART:20240331T010000
END:DAYLIGHT
BEGIN:STANDARD
TZOFFSETFROM:+0200
TZOFFSETTO:+0100
TZNAME:CET
DTSTART:20241027T010000
END:STANDARD
BEGIN:DAYLIGHT
TZOFFSETFROM:+0100
TZOFFSETTO:+0200
TZNAME:CEST
DTSTART:20250330T010000
END:DAYLIGHT
BEGIN:STANDARD
TZOFFSETFROM:+0200
TZOFFSETTO:+0100
TZNAME:CET
DTSTART:20251026T010000
END:STANDARD
BEGIN:DAYLIGHT
TZOFFSETFROM:+0100
TZOFFSETTO:+0200
TZNAME:CEST
DTSTART:20260329T010000
END:DAYLIGHT
BEGIN:STANDARD
TZOFFSETFROM:+0200
TZOFFSETTO:+0100
TZNAME:CET
DTSTART:20261025T010000
END:STANDARD
END:VTIMEZONE
BEGIN:VEVENT
DTSTART;TZID=Europe/Vienna:20251009T093000
DTEND;TZID=Europe/Vienna:20251009T173000
DTSTAMP:20260424T180117
CREATED:20250731T070955Z
LAST-MODIFIED:20250926T132531Z
UID:1015-1760002200-1760031000@digitaler-produkt-pass.at
SUMMARY:DPP Festival – Unlocking the Future of Digital Product Passports
DESCRIPTION:Am 9. Oktober 2025 findet das DPP Festival im Postillion Convention Centre in Den Haag statt. \nOrganisiert vom CoE-DSC gemeinsam mit dem CIRPASS-2-Projekt und seinen Partnern TNO und GS1\, bringt dieses Festival EU-Politikgestalter\, Branchenführer\, Innovatoren\, Lösungsanbieter und DPP-Experten zusammen\, um Einblicke zu teilen\, Vorteile zu beleuchten und die Zusammenarbeit rund um Digitale Produktpässe zu fördern. \nWarum teilnehmen?\n\nÜberblick über das DPP-Ökosystem und seine wichtigsten Akteure\nNutzen über die Einhaltung von Vorschriften hinaus sowie zukünftige Chancen\nLösungen und aktuelle Herausforderungen\nZusammenarbeit und Wissensaustausch innerhalb des CoE-DPP\n\n\n\nZiele der Veranstaltung\n\n\n\n\n\nSchaffen Sie einen Überblick und eine Struktur in der DPP-Welt\nVerstehen Sie die wichtigsten Akteure\, das Ökosystem und den aktuellen Stand der Technik\nHervorheben der Vorteile und Verpflichtungen\nvon DPP Betonen\, dass die Einführung von DPP über die gesetzlichen Verpflichtungen hinaus erhebliche Vorteile bietet\nStand der Technik\nErkunden Sie\, was bereits verfügbar ist\, und identifizieren Sie\, was noch zu tun ist\nFördern Sie die Zusammenarbeit\nIdentifizieren Sie gemeinsame Themen für die Zusammenarbeit innerhalb des CoE-DPP und inspirieren Sie sich gegenseitig durch gemeinsame Lernerfahrungen\nLernen Sie von führenden Experten auf diesem Gebiet und teilen Sie ihr Wissen mit ihnen.\n\n\n\nWer sollte teilnehmen?\n\n\n\n\n\nDPP-Anwender\nUnternehmen\, die DPPs implementiert haben oder nutzen möchten und ein besseres Verständnis für das Konzept und seine Möglichkeiten erlangen möchten\nTreffen\nSie die Organisationen und Sektoren\, die von der Politik betroffen sind\, und erfahren Sie\, wie die Umsetzung der Politik voranschreitet\nSektorale und zwischengeschaltete Organisationen\nBauen Sie Kooperationen auf und lernen Sie von anderen Sektoren\, damit Sie die DPP-Wertschöpfung in Ihrem Ökosystem bestmöglich vorantreiben können\nAnbieter\nvon DPP-Lösungen Erfassen Sie Marktanforderungen und verbessern Sie die Interoperabilität zwischen Anbietern.
URL:https://digitaler-produkt-pass.at/event/dpp-festival-unlocking-the-future-of-digital-product-passports/
LOCATION:Postillion Convention Centre\, Waldorpstraat 15\, CA Den Haag\, 2521\, Netherlands
ATTACH;FMTTYPE=image/png:https://digitaler-produkt-pass.at/wp-content/uploads/2025/07/Screenshot-2025-07-31-090923.png
END:VEVENT
BEGIN:VEVENT
DTSTART;TZID=Europe/Vienna:20251021T130000
DTEND;TZID=Europe/Vienna:20251021T143000
DTSTAMP:20260424T180117
CREATED:20251002T095930Z
LAST-MODIFIED:20251002T111624Z
UID:1224-1761051600-1761057000@digitaler-produkt-pass.at
SUMMARY:Insights into Digital Product Passports & EU Research
DESCRIPTION:Information\nAs Europe accelerates its transition to a circular economy\, Digital Product Passports (DPPs) are emerging as a cornerstone technology. DPPs are digital records that carry essential information about a product’s origin\, composition\, environmental impact\, repairability\, and recycling potential—accessible throughout the product’s entire lifecycle. This transparency is crucial for enabling sustainable production\, informed consumption\, and efficient recycling\, all of which are key to the EU’s climate and resource goals.\n \nChallenges\nHowever\, the journey toward effective DPP implementation is complex. EU-funded research projects are at the forefront of developing\, piloting\, and standardizing DPP solutions across sectors such as electronics\, and the automotive/aeronautics sectors.  \nThese projects face shared challenges\, including:\n• Ensuring interoperability and open standards for data exchange\n• Balancing transparency with data privacy and security\n• Integrating DPPs into diverse supply chains and legacy systems\n• Meeting evolving regulatory requirements under the Ecodesign for Sustainable Products Regulation (ESPR)\n• Engaging stakeholders from manufacturers to recyclers and consumers \nGoals\nThis online webinar will bring together researchers\, EU project coordinators\, policy experts\, and funding representatives to:\n• Showcase innovative DPP pilots and prototypes from current EU-funded projects\n• Discuss common technical\, regulatory\, and organizational hurdles\n• Explore practical solutions and best practices for cross-sector collaboration\n• Identify opportunities for future research\, funding\, and policy alignment \nThe session aims to foster dialogue\, share knowledge\, and accelerate the adoption of DPPs as enablers of the circular economy. Participants will gain insights into how collaborative innovation can overcome barriers and drive real-world impact\, supporting Europe’s ambition to lead in sustainability and digital transformation. \nTarget Audience\n\nResearchers\nEU project leaders\npolicymakers\nfunding agencies\nindustry stakeholders\ncircular economy advocates\n\nTickets/Registration\nFollow the link\, registration for free! \n 
URL:https://digitaler-produkt-pass.at/event/insights-into-digital-product-passports-eu-research/
LOCATION:WEBINAR
ATTACH;FMTTYPE=image/png:https://digitaler-produkt-pass.at/wp-content/uploads/2025/10/RecAL-–-Recycling-Technologies-for-Circular-Aluminium.png
END:VEVENT
BEGIN:VEVENT
DTSTART;TZID=Europe/Vienna:20251022T133000
DTEND;TZID=Europe/Vienna:20251022T174500
DTSTAMP:20260424T180117
CREATED:20250926T130754Z
LAST-MODIFIED:20250929T131856Z
UID:1164-1761139800-1761155100@digitaler-produkt-pass.at
SUMMARY:DPP Workshop @ Millennium Innovation Days
DESCRIPTION:Rabatt für CEV-Mitglieder\, Mitglieder der Plattform Industrie 4.0 und PASSAT Projektteilnehmer.\nBitte um Kontaktaufnahme mit Ing. Andreas Herbst (andreas.herbst@plattformindustrie40.at) \nDie Plattform Industrie 4.0 lädt Sie gemeinsam mit Tietoevry und der Wirtschafts-Standort Vorarlberg GmbH (WISTO) zu einem interaktiven DPP-Event am 22. Oktober in Lustenau bei den Millennium Innovation Days ein. \nDieser „Getting –Started –Workshop“ ist als logischer nächster Schritt der erfolgreichen DPP Check-In Events gedacht. \nIn den Check-Ins und darüber hinaus gab es immer wieder die Frage nach konkreten Umsetzungsschritten für den DPP – genau das möchten wir in diesem Workshop adressieren – sowie die Möglichkeit zum Erfahrungsaustausch bieten. Wie könnten erste Schritte aussehen? Wie kann ein konkreter Fahrplan aussehen und wie ist es möglich auch ohne finale Standards & Verordnungen Strukturen aufzubauen\, die flexibel erweiterbar sind. Welche organisatorischen Voraussetzungen sind erforderlich? Und vor allem: Wie kann der DPP nicht nur als Regularium erfüllt werden\, sondern auch als Grundlage für Mehrwert und innovative Geschäftsmodelle dienen? \nBei diesem Event laden wir Unternehmen ein\, die bereits erste Berührungspunkte mit dem DPP haben und aktuell nach konkreten Ansätzen für eine Umsetzung suchen. \nDas vorrangige Ziel ist ein gemeinsamer Erfahrungsaustausch zwischen allen Beteiligten Unternehmen\, wobei es nicht um das „WAS ist ein DPP“\, sondern um das „WIE setze ich den DPP in der Praxis um“ geht. \nWer ist eingeladen: \n\n10-15 österreichische produzierende Unternehmen\, die sich bereits mit dem Thema DPP befassen und in der Vorbereitung oder Umsetzung eines DPP-Projekts sind.\n\nZielgruppe: \n\nSustainability Management\nProduktionsleitung\nSupply Chain Management\nProdukt Management\nEnterprise IT Architecture\n\nAgenda: \n\n\n\n\n13.30 Uhr\nDigitaler Produktpass in der Automobilindustrie\nPascal Mast\, TÜV Süd \n\n\n\n\n14.00 Uhr\nDigitaler Produktpass – Aktueller Stand und Neuigkeiten\nAndreas Herbst\, Plattform Industrie 4.0 \n\n\n\n\n\n\n\n\n14.20 Uhr\nPASSAT – Das Leitprojekt\nSascha Thöny\, Fraunhofer Austria \n\n\n\n\n\n\n\n\n14.40 Uhr\nDigitaler Produktpass – Chance & Motor – Über die Regulierung zum Erfolgsmodell\nStefan Novoszel\, Tietoevry \n\n\n\n\n\n\n\n\n15.00 Uhr\nBusiness Value Design Thinking – Unternehmerischer Mehrwert\nWie kann der DPP bei der Umsetzung der Unternehmens Strategie und Vision ein Wettbewerbsvorteil und Innovationstreiber sein?\nSean McGuire\, Tietoevry \n\n\n\n\n\n\n\n\n16.30 Uhr\nBusiness Value Design Thinking – Technische Umsetzung\nTechnische Umsetzung und Vorgehensmodell – Wie kann man eine technische Umsetzung in Angriff nehmen und was sollte alles mitbedacht werden\, um erfolgreich zu sein.\nStefan Novoszel\, Tietoevry \nEintritt: \n€ 199 Eintagesticket / € 99\,50 für Mitglieder
URL:https://digitaler-produkt-pass.at/event/dpp-workshop-millennium-innovation-days/
LOCATION:MILLENNIUM PARK LUSTENAU\, Millennium Park 6\, Lustenau\, 6890\, Austria
ATTACH;FMTTYPE=image/jpeg:https://digitaler-produkt-pass.at/wp-content/uploads/2025/09/post-it-4129907_1280.jpg
END:VEVENT
BEGIN:VEVENT
DTSTART;TZID=Europe/Vienna:20251023T140000
DTEND;TZID=Europe/Vienna:20251023T153000
DTSTAMP:20260424T180117
CREATED:20250929T130257Z
LAST-MODIFIED:20250930T130033Z
UID:1199-1761228000-1761233400@digitaler-produkt-pass.at
SUMMARY:Ökodesignverordnung und Digitaler Produktpass
DESCRIPTION:Neuer Rechtsrahmen – Auswirkung auf Ihre Organisation – Umsetzung: was ist bis wann zu erledigen\nAbout\n\n\n\n\n\n\n\nGestiegene Produktanforderungen hinsichtlich Reparierbarkeit\, Zuverlässigkeit\, Wiederverwendbarkeit\, Energieverbrauch\, Energieeffizienz etc.: Die am 18. Juli 2024 in Kraft getretene neue EU-Ökodesignverordnung für nachhaltige Produkte (Ecodesign for Sustainable Products\, ESPR) bringt zahlreiche Änderungen. Bis 2030 müssen sektorübergreifend digitale Produktpässe (DPP) eingeführt werden. Für manche Produktkategorien – z.B. Batterien – sogar bereits im Frühjahr 2027\, nach neuer Bauprodukteverordnung ab 2028. Informieren Sie sich in unserem Webinar über den aktuellen Stand und die notwendigen Arbeiten Ihrer Organisation bis zur Umsetzung. \nBenefit\n\nWissen aus erster Hand: Unser Experte ist als Delegierter von Austrian Standards Vorsitzender der CEN/CLC JTC 024 – Digital Product Passport – Framework and System\nAuswirkungen auf Ihr Unternehmen antizipieren: Erhalten Sie einen exklusiven Ausblick auf mögliche zukünftige Anpassungen und wie diese Ihr Unternehmen beeinflussen können.\nOnline-Live: Flexibel teilnehmen von zuhause oder vom Office\nEffizienz: Gewinnen Sie innerhalb von nur 1\,5 Stunden einen umfassenden Überblick und direkte Einblicke\, ohne umfangreiche Arbeitszeit zu investieren\n\nTarget groups\n\nNachhaltigkeits-\, Umwelt- und Digitalisierungsbeauftragte\nPersonen\, die sich zum Thema Digitaler Produktpass informieren möchten\n\nTickets\n-10% für… \n\nMitglieder von Austrian Standards\nNutzer:innen von effects 2.0\nTeilnehmende an der Normung\n\n\n\n\n\n\n\n\nVeranstalter\nAustrian Standards\nHeinestraße 38\n1020 Wien
URL:https://digitaler-produkt-pass.at/event/oekodesignverordnung-und-digitaler-produktpass/
LOCATION:WEBINAR
ATTACH;FMTTYPE=image/jpeg:https://digitaler-produkt-pass.at/wp-content/uploads/2025/09/computer-4928772_1280.jpg
END:VEVENT
BEGIN:VEVENT
DTSTART;TZID=Europe/Vienna:20251027T133000
DTEND;TZID=Europe/Vienna:20251027T170000
DTSTAMP:20260424T180117
CREATED:20251002T155835Z
LAST-MODIFIED:20251002T155835Z
UID:1229-1761571800-1761584400@digitaler-produkt-pass.at
SUMMARY:DECODE Workshop 2025
DESCRIPTION:Co-located with CNSM 2025 (https://cnsm-conf.org/2025/)\n\nDescription\nAs the shift to a circular economy gains momentum\, the DECODE Workshop addresses the need for digital foundations that promote sustainability\, interoperability\, and transparency. Core to this is the Digital Product Passport (DPP)—a digital tool enabling traceability and data sharing across product lifecycles. \nThis workshop invites original research and position papers on systems\, architectures\, and standards powering circularity through open digital enablers. \n\n\nTopics of Interest\n\nDigital Product Passport data services & distributed architectures\nFederated data governance & interoperability\nService ecosystems for circular business models\nSmart and digital supply chains\nDigital Twins and their management\nTraceability\, transparency\, and lifecycle tracking\nSelf-sovereign identity and identity management for DPPs\nData intermediaries and DPP-supporting devices\nDecentralized governance and data space architectures\nMulti-access edge computing\nOperations and Business Support Systems (OSS/BSS)\n… see also CFP\n\nTickets\nFollow the LINK \nWorkshop Author member (personal invoice – credit card)\n€300.00\nWorkshop only (ONE DAY) \nWorkshop Author non member (personal invoice – credit card)\n€350.00\nWorkshop only (ONE DAY) \nWorkshop Participant member (personal invoice – credit card)\n€300.00\nWorkshop only (ONE DAY) \nWorkshop Participant non member (personal invoice – credit card)\n€350.00\nWorkshop only (ONE DAY) \nWorkshop Student member (personal invoice – credit card)\n€150.00\nWorkshop only (ONE DAY) \nWorkshop Student non member (personal invoice – credit card)\n€175.00\nWorkshop only (ONE DAY)
URL:https://digitaler-produkt-pass.at/event/decode-workshop-2025/
LOCATION:DAMSLab – University of Bologna\, Piazzetta P. P. Pasolini 5b\, Bologna\, Italy
ATTACH;FMTTYPE=image/jpeg:https://digitaler-produkt-pass.at/wp-content/uploads/2025/09/post-it-4129907_1280.jpg
END:VEVENT
END:VCALENDAR