BEGIN:VCALENDAR
VERSION:2.0
PRODID:-//PASSAT - ECPv6.15.20//NONSGML v1.0//EN
CALSCALE:GREGORIAN
METHOD:PUBLISH
X-WR-CALNAME:PASSAT
X-ORIGINAL-URL:https://digitaler-produkt-pass.at
X-WR-CALDESC:Veranstaltungen für PASSAT
REFRESH-INTERVAL;VALUE=DURATION:PT1H
X-Robots-Tag:noindex
X-PUBLISHED-TTL:PT1H
BEGIN:VTIMEZONE
TZID:Europe/Vienna
BEGIN:DAYLIGHT
TZOFFSETFROM:+0100
TZOFFSETTO:+0200
TZNAME:CEST
DTSTART:20250330T010000
END:DAYLIGHT
BEGIN:STANDARD
TZOFFSETFROM:+0200
TZOFFSETTO:+0100
TZNAME:CET
DTSTART:20251026T010000
END:STANDARD
BEGIN:DAYLIGHT
TZOFFSETFROM:+0100
TZOFFSETTO:+0200
TZNAME:CEST
DTSTART:20260329T010000
END:DAYLIGHT
BEGIN:STANDARD
TZOFFSETFROM:+0200
TZOFFSETTO:+0100
TZNAME:CET
DTSTART:20261025T010000
END:STANDARD
BEGIN:DAYLIGHT
TZOFFSETFROM:+0100
TZOFFSETTO:+0200
TZNAME:CEST
DTSTART:20270328T010000
END:DAYLIGHT
BEGIN:STANDARD
TZOFFSETFROM:+0200
TZOFFSETTO:+0100
TZNAME:CET
DTSTART:20271031T010000
END:STANDARD
END:VTIMEZONE
BEGIN:VEVENT
DTSTART;VALUE=DATE:20260601
DTEND;VALUE=DATE:20260604
DTSTAMP:20260424T124829
CREATED:20260217T114409Z
LAST-MODIFIED:20260217T114409Z
UID:1522-1780272000-1780531199@digitaler-produkt-pass.at
SUMMARY:DPP4EU 2026 – Digital Product Passport Forum
DESCRIPTION:Das DPP4EU 2026 – Digital Product Passport Forum findet vom 1. bis 3. Juni 2026 in Brüssel sowie per Livestream statt. Die hochrangige europäische Veranstaltung bringt Expert:innen\, Forschungsprojekte\, politische Entscheidungsträger und Industrievertreter zusammen\, um die zukünftige Ausgestaltung des Digital Product Passports (DPP) voranzutreiben. \n\nIm Mittelpunkt stehen wissenschaftliche und technische Beiträge\, Innovationsansätze\, regulatorische Entwicklungen sowie die Frage\, wie digitale Produktinformationen und Materialien effizienter\, interoperabler und nachhaltiger bereitgestellt werden können. Ziel der Konferenz ist es\, den Austausch zwischen Forschung\, Politik und Industrie zu fördern und die praktische Umsetzung des DPP in verschiedenen Industriezweigen zu unterstützen. \nZentrale Programmpunkte\n\nDie Konferenz umfasst ein vielseitiges Programm mit Themen wie: \n\nRegulatorische Entwicklungen und Standardisierung rund um den Digitalen Produktpass\nTechnische Implementierung\, Datenmodelle\, IT‑Infrastrukturen und Interoperabilität\nDigitalisierung der Fertigung\, Materials Data Spaces und Safe‑and‑Sustainable‑by‑Design‑Ansätze\nWorkshops und Satelliten‑Meetings\, darunter Battery Passport\, Circularity & Sustainability Assessments sowie KI‑getriebene Materialdaten\nEin Workshop zu Women in Materials Science and Digitalization\nKeynotes\, Panels und Sessions zu innovativen Geschäftsmodellen\, digitalen Ökosystemen und Kreislaufwirtschaft\n\nDie Veranstaltung richtet sich insbesondere an öffentlich geförderte Forschungs- und Innovationsprojekte\, die an digitalen Produktinformationssystemen und nachhaltigen Wertschöpfungsketten arbeiten. \nCall for Abstracts – Einreichung bis 1. März 2026\n\nTrotz der Einladungspflicht für die Präsenzteilnahme können bis 1. März 2026 weiterhin wissenschaftliche Abstracts eingereicht werden.\nWesentliche Punkte: \n\nMaximal eine Seite\nErwartet werden wissenschaftliche oder technische Beiträge\, die Kooperation fördern und neue Ansätze präsentieren\nNach Annahme erfolgt die Präsentation entweder\n\nals 10‑minütiger Vortrag mit Q&A\, oder\nim Rahmen einer Poster-Session\n\n\n\nDie Beiträge sollen technische Fortschritte\, Forschungsergebnisse oder relevante Demonstrationen enthalten\, die zur Weiterentwicklung des Digitalen Produktpasses beitragen. \nMehr Infos finden Sie auf der Einreichungswebseite \nTeilnahme nur auf Einladung\n\nAufgrund begrenzter Kapazitäten erfolgt die Vor-Ort-Teilnahme ausschließlich auf persönliche Einladung.\nFür alle weiteren Interessierten steht ein öffentlicher Livestream zur Verfügung\, der den Zugang zu den Vorträgen und Diskussionen ermöglicht. \nPASSAT im europäischen Kontext\n\nFür PASSAT bietet das DPP4EU 2026 eine ideale Plattform\, um sich mit führenden europäischen Initiativen zu vernetzen\, Einblicke in regulatorische Entwicklungen zu erhalten und die Rolle digitaler Produktpässe in der Kreislaufwirtschaft aktiv mitzugestalten.
URL:https://digitaler-produkt-pass.at/event/dpp4eu-2026-digital-product-passport-forum/
LOCATION:Thon Hotel Bristol Stephanie\, Avenue Louise 91-93\, Brüssel\, 1050\, Belgium
ATTACH;FMTTYPE=image/png:https://digitaler-produkt-pass.at/wp-content/uploads/2026/02/cropped-cropped-DigiPass-Logo_RGB-1-1-768x295-1.png
END:VEVENT
BEGIN:VEVENT
DTSTART;TZID=Europe/Vienna:20260623T140000
DTEND;TZID=Europe/Vienna:20260623T153000
DTSTAMP:20260424T124829
CREATED:20250929T130913Z
LAST-MODIFIED:20250930T130125Z
UID:1210-1782223200-1782228600@digitaler-produkt-pass.at
SUMMARY:Ökodesignverordnung und Digitaler Produktpass
DESCRIPTION:Neuer Rechtsrahmen – Auswirkung auf Ihre Organisation – Umsetzung: was ist bis wann zu erledigen\nAbout\n\n\n\n\n\n\n\nGestiegene Produktanforderungen hinsichtlich Reparierbarkeit\, Zuverlässigkeit\, Wiederverwendbarkeit\, Energieverbrauch\, Energieeffizienz etc.: Die am 18. Juli 2024 in Kraft getretene neue EU-Ökodesignverordnung für nachhaltige Produkte (Ecodesign for Sustainable Products\, ESPR) bringt zahlreiche Änderungen. Bis 2030 müssen sektorübergreifend digitale Produktpässe (DPP) eingeführt werden. Für manche Produktkategorien – z.B. Batterien – sogar bereits im Frühjahr 2027\, nach neuer Bauprodukteverordnung ab 2028. Informieren Sie sich in unserem Webinar über den aktuellen Stand und die notwendigen Arbeiten Ihrer Organisation bis zur Umsetzung. \nBenefit\n\nWissen aus erster Hand: Unser Experte ist als Delegierter von Austrian Standards Vorsitzender der CEN/CLC JTC 024 – Digital Product Passport – Framework and System\nAuswirkungen auf Ihr Unternehmen antizipieren: Erhalten Sie einen exklusiven Ausblick auf mögliche zukünftige Anpassungen und wie diese Ihr Unternehmen beeinflussen können.\nOnline-Live: Flexibel teilnehmen von zuhause oder vom Office\nEffizienz: Gewinnen Sie innerhalb von nur 1\,5 Stunden einen umfassenden Überblick und direkte Einblicke\, ohne umfangreiche Arbeitszeit zu investieren\n\nTarget groups\n\nNachhaltigkeits-\, Umwelt- und Digitalisierungsbeauftragte\nPersonen\, die sich zum Thema Digitaler Produktpass informieren möchten\n\nTickets\n-10% für… \n\nMitglieder von Austrian Standards\nNutzer:innen von effects 2.0\nTeilnehmende an der Normung\n\n\n\n\n\n\n\n\nVeranstalter\nAustrian Standards\nHeinestraße 38\n1020 Wien
URL:https://digitaler-produkt-pass.at/event/oekodesignverordnung-und-digitaler-produktpass-3/
LOCATION:WEBINAR
ATTACH;FMTTYPE=image/jpeg:https://digitaler-produkt-pass.at/wp-content/uploads/2025/09/computer-4928772_1280.jpg
END:VEVENT
END:VCALENDAR