BEGIN:VCALENDAR
VERSION:2.0
PRODID:-//PASSAT - ECPv6.15.20//NONSGML v1.0//EN
CALSCALE:GREGORIAN
METHOD:PUBLISH
X-ORIGINAL-URL:https://digitaler-produkt-pass.at
X-WR-CALDESC:Veranstaltungen für PASSAT
REFRESH-INTERVAL;VALUE=DURATION:PT1H
X-Robots-Tag:noindex
X-PUBLISHED-TTL:PT1H
BEGIN:VTIMEZONE
TZID:Europe/Vienna
BEGIN:DAYLIGHT
TZOFFSETFROM:+0100
TZOFFSETTO:+0200
TZNAME:CEST
DTSTART:20250330T010000
END:DAYLIGHT
BEGIN:STANDARD
TZOFFSETFROM:+0200
TZOFFSETTO:+0100
TZNAME:CET
DTSTART:20251026T010000
END:STANDARD
BEGIN:DAYLIGHT
TZOFFSETFROM:+0100
TZOFFSETTO:+0200
TZNAME:CEST
DTSTART:20260329T010000
END:DAYLIGHT
BEGIN:STANDARD
TZOFFSETFROM:+0200
TZOFFSETTO:+0100
TZNAME:CET
DTSTART:20261025T010000
END:STANDARD
BEGIN:DAYLIGHT
TZOFFSETFROM:+0100
TZOFFSETTO:+0200
TZNAME:CEST
DTSTART:20270328T010000
END:DAYLIGHT
BEGIN:STANDARD
TZOFFSETFROM:+0200
TZOFFSETTO:+0100
TZNAME:CET
DTSTART:20271031T010000
END:STANDARD
END:VTIMEZONE
BEGIN:VEVENT
DTSTART;TZID=Europe/Vienna:20261110T140000
DTEND;TZID=Europe/Vienna:20261110T153000
DTSTAMP:20260424T160333
CREATED:20250929T133539Z
LAST-MODIFIED:20250930T130147Z
UID:1214-1794319200-1794324600@digitaler-produkt-pass.at
SUMMARY:Ökodesignverordnung und Digitaler Produktpass
DESCRIPTION:Neuer Rechtsrahmen – Auswirkung auf Ihre Organisation – Umsetzung: was ist bis wann zu erledigen\nAbout\n\n\n\n\n\n\n\nGestiegene Produktanforderungen hinsichtlich Reparierbarkeit\, Zuverlässigkeit\, Wiederverwendbarkeit\, Energieverbrauch\, Energieeffizienz etc.: Die am 18. Juli 2024 in Kraft getretene neue EU-Ökodesignverordnung für nachhaltige Produkte (Ecodesign for Sustainable Products\, ESPR) bringt zahlreiche Änderungen. Bis 2030 müssen sektorübergreifend digitale Produktpässe (DPP) eingeführt werden. Für manche Produktkategorien – z.B. Batterien – sogar bereits im Frühjahr 2027\, nach neuer Bauprodukteverordnung ab 2028. Informieren Sie sich in unserem Webinar über den aktuellen Stand und die notwendigen Arbeiten Ihrer Organisation bis zur Umsetzung. \nBenefit\n\nWissen aus erster Hand: Unser Experte ist als Delegierter von Austrian Standards Vorsitzender der CEN/CLC JTC 024 – Digital Product Passport – Framework and System\nAuswirkungen auf Ihr Unternehmen antizipieren: Erhalten Sie einen exklusiven Ausblick auf mögliche zukünftige Anpassungen und wie diese Ihr Unternehmen beeinflussen können.\nOnline-Live: Flexibel teilnehmen von zuhause oder vom Office\nEffizienz: Gewinnen Sie innerhalb von nur 1\,5 Stunden einen umfassenden Überblick und direkte Einblicke\, ohne umfangreiche Arbeitszeit zu investieren\n\nTarget groups\n\nNachhaltigkeits-\, Umwelt- und Digitalisierungsbeauftragte\nPersonen\, die sich zum Thema Digitaler Produktpass informieren möchten\n\nTickets\n-10% für… \n\nMitglieder von Austrian Standards\nNutzer:innen von effects 2.0\nTeilnehmende an der Normung\n\n\n\n\n\n\n\n\nVeranstalter\nAustrian Standards\nHeinestraße 38\n1020 Wien
URL:https://digitaler-produkt-pass.at/event/oekodesignverordnung-und-digitaler-produktpass-4/
LOCATION:WEBINAR
ATTACH;FMTTYPE=image/jpeg:https://digitaler-produkt-pass.at/wp-content/uploads/2025/09/computer-4928772_1280.jpg
END:VEVENT
END:VCALENDAR